Workbook

Sheet Summering
A5: Lillängsdals Tomtägarförening U.P.A
A7: Underhållsplan för Lillängsdals Tomtägareförening UPA | E7: Reviderad: | F7: 1/6/2025 HJ
A9: Håkan J | B9: År | C9: 2022 | D9: 2023 | E9: 2024 | F9: 2025 | G9: 2026 | H9: 2027 | I9: 2028 | J9: 2029 | K9: 2030 | L9: 2031 | M9: 2032 | N9: 2033
A10: Objekt
A11: Hamnen | C11: =SUM(Hamnen!B32) -> 77600 | D11: =SUM(Hamnen!C32) -> 108600 | E11: =SUM(Hamnen!D32) -> 67600 | F11: =SUM(Hamnen!E32) -> 36800 | G11: =SUM(Hamnen!F32) -> 27100 | H11: =SUM(Hamnen!G32) -> 28600 | I11: =SUM(Hamnen!H32) -> 37100 | J11: =SUM(Hamnen!I32) -> 28600 | ... N11: =SUM(Hamnen!M32) -> 31800
A13: Stranden | C13: =SUM(Stranden!C50) -> 24700 | D13: =SUM(Stranden!D50) -> 8200 | E13: =SUM(Stranden!E50) -> 23500 | F13: =SUM(Stranden!F50) -> 36800 | G13: =SUM(Stranden!G50) -> 10500 | H13: =SUM(Stranden!H50) -> 16000 | I13: =SUM(Stranden!I50) -> 500 | J13: =SUM(Stranden!J50) -> 1500 | ... N13: =SUM(Stranden!N50) -> 10500
A15: Ängen/Fotb. | C15: =SUM('Ängen-fotbollsplan'!C15) -> 0 | D15: =SUM('Ängen-fotbollsplan'!D15) -> 1000 | E15: =SUM('Ängen-fotbollsplan'!E15) -> 2000 | F15: =SUM('Ängen-fotbollsplan'!F15) -> 0 | G15: =SUM('Ängen-fotbollsplan'!G15) -> 15000 | H15: =SUM('Ängen-fotbollsplan'!H15) -> 0 | I15: =SUM('Ängen-fotbollsplan'!I15) -> 2000 | J15: =SUM('Ängen-fotbollsplan'!J15) -> 500 | ... N15: =SUM('Ängen-fotbollsplan'!N15) -> 0
A17: Vägar/allm | C17: =SUM(Vägar!C16) -> 24000 | D17: =SUM(Vägar!D16) -> 3000 | E17: =SUM(Vägar!E16) -> 29000 | F17: =SUM(Vägar!F16) -> 33000 | G17: =SUM(Vägar!G16) -> 38000 | H17: =SUM(Vägar!H16) -> 28000 | I17: =SUM(Vägar!I16) -> 28000 | J17: =SUM(Vägar!J16) -> 28000 | ... N17: =SUM(Vägar!N16) -> 28000
A19: Oförutsett | C19: 5000 | D19: 5000 | E19: 5000 | F19: 5000 | G19: 5000 | H19: 5000 | I19: 5000 | J19: 5000 | K19: 5000 | L19: 5000 | M19: 5000 | N19: 5000
A20: Summa | C20: =SUM(C11:C19) -> 131300 | D20: =SUM(D11:D19) -> 125800 | E20: =SUM(E11:E19) -> 127100 | F20: =SUM(F11:F19) -> 111600 | G20: =SUM(G11:G19) -> 95600 | H20: =SUM(H11:H19) -> 77600 | I20: =SUM(I11:I19) -> 72600 | J20: =SUM(J11:J19) -> 63600 | ... N20: =SUM(N11:N19) -> 75300
J21: S:a 9år | K21: =SUM(C20:K20) -> 897800
D22: Snitt per år | J22: Snitt år | K22: =SUM(K21/10) -> 89780
A23: Underhållsplanen avses vara ett verktyg som underlag för framtida budgetarbete och beslutas.
A24: vid årsstämman. Märk att underhållsplanen avser i många fall endast materielkostnad och avser medlemmars
A25: eget arbete

Sheet Hamnen
A1: Underhållsplan för Lillängsdals Tomtägareförening UPA
A2: HJ/2025
A3: Hamnen | B3: 2022 | C3: 2023 | D3: 2024 | E3: 2025 | F3: 2026 | G3: 2027 | H3: 2028 | I3: 2029 | J3: 2030 | K3: 2031 | L3: 2032 | M3: 2033
A5: Pontonen Västra
A6: Landgång
A7: Nya kättingar/sten | B7: 20000 | C7: 61000
A8: Ytskikt | B8: 500 | D8: 500
A9: Bommar, flytkropp | B9: 12500 | C9: 23500 | D9: 12500 | E9: 5000 | F9: 5000 | G9: 5000 | H9: 5000 | I9: 5000 | J9: 5000 | K9: 5000 | L9: 5000 | M9: 5000
A10: Avbärare | E10: 25000
A11: Besiktning | B11: 5000 | H11: 5000
A12: Fond *1 | B12: 10000 | D12: 10000 | E12: 2500 | F12: 10000 | G12: 10000 | H12: 10000 | I12: 10000 | J12: 10000 | K12: 10000 | L12: 10000 | M12: 10000
A13: Pontonen Östra
A14: Olja
A15: Ytskikt
A16: Bommar | B16: 12500 | C16: 23500 | D16: 12500 | E16: 1200 | G16: 1500 | I16: 1500
A17: Besiktning | B17: 5000 | H17: 5000
A18: Fond *1 | B18: 7500 | D18: 7500 | E18: 2500 | F18: 7500 | G18: 7500 | H18: 7500 | I18: 7500 | J18: 7500 | K18: 7500 | L18: 7500 | M18: 7500
A19: Mittbryggan
A20: Olja | B20: 300 | C20: 300 | D20: 300 | E20: 300 | F20: 300 | G20: 300 | H20: 300 | I20: 300 | J20: 300
A21: Renovering
A22: Fond *2 | B22: 4000 | D22: 4000 | E22: 0 | F22: 4000 | G22: 4000 | H22: 4000 | I22: 4000 | J22: 4000 | K22: 4000 | L22: 4000 | M22: 4000
A24: Östra bryggan
A25: Olja | B25: 300 | C25: 300 | D25: 300 | E25: 300 | F25: 300 | G25: 300 | H25: 300 | I25: 300 | J25: 300 | K25: 300 | L25: 300 | M25: 300
A26: Ytskikt
A27: Beslag kantskydd
A28: Förlängning brygga | D28: 20000
A30: Diverse oförutsett *3 | J30: 5000 | K30: 5000 | L30: 5000 | M30: 5000
A32: Summa kr | B32: =SUM(B4:B31) -> 77600 | C32: =SUM(C4:C31) -> 108600 | D32: =SUM(D4:D31) -> 67600 | E32: =SUM(E4:E31) -> 36800 | F32: =SUM(F4:F31) -> 27100 | G32: =SUM(G4:G31) -> 28600 | H32: =SUM(H4:H31) -> 37100 | I32: =SUM(I4:I31) -> 28600 | ... M32: =SUM(M4:M31) -> 31800
A33: Varav fond | B33: 21500 | C33: =SUM(C12+C18+C22) -> 0 | D33: =SUM(D12+D18+D22) -> 21500 | E33: =SUM(E12+E18+E22) -> 5000 | F33: =SUM(F12+F18+F22) -> 21500 | G33: =SUM(G12+G18+G22) -> 21500 | H33: =SUM(H12+H18+H22) -> 21500 | I33: =SUM(I12+I18+I22) -> 21500 | J33: 21500 | K33: 21500 | L33: 21500 | M33: 21500 | N33: =SUM(B33:M33) -> 220000
A35: Att klubbas årsstämma 2025
A36: *1/Från 2021 fonderas pengar för ny brygga. Livsländ på bryggor 30-35 år
A37: *2 Livslängd ca 30 år
A38: *3/ Inte alla år som brygga sliter sig elleer ändrar läge. Summan flyttas till nästkommande år kostaden under summering
A39: OM kostnaden för att te x någon brygga ändrat läge på grund av is inte behöver utnyttjas flyttas budgeten över till nästkommande år

Sheet Stranden
A1: HJ/2025
A2: Stranden | C2: 2022 | D2: 2023 | E2: 2024 | F2: 2025 | G2: 2026 | H2: 2027 | I2: 2028 | J2: 2029 | K2: 2030 | L2: 2031 | M2: 2032 | N2: 2033
A4: Badsand | E4: 10000 | F4: 10000 | H4: 10000 | K4: 10000 | N4: 10000
A5: Avrinning
A6: Lekställning
A7: Armaturer | C7: 2000 | H7: 2000
A8: Bord/stolar | C8: 10000 | D8: 5000 | E8: 3000 | G8: 10000 | L8: 10000
A9: Vägbom
A10: Bastustege | F10: 2500
A11: Sjöstugan
A12: Tak
A13: Avvattning
A14: Ytterväggar | C14: 2000 | D14: 2000 | E14: 2500
A15: Fönster | D15: 500
A16: Dörrar | D16: 500 | F16: 1500
A17: Golv
A18: Innerväggar
A19: Vitvaror/Inventarier
A20: Lås
A22: Sjöboden
A23: Tak | C23: 2000 | H23: 2000
A24: Avvattning
A25: Ytterväggar | C25: 1500 | H25: 1500
A26: Fönster
A27: Dörrar | C27: 1200 | F27: 1500
A28: Golv
A29: Lås
A30: Trappa
A32: Bastu
A33: Tak
A34: Avvattning
A35: Ytterväggar
A36: Fönster | D36: 200
A37: Dörrar
A38: Golv
A39: Lås
A40: Bryggdel
A41: Räcke | C41: 4000
A42: Aggregat | F42: 15000 | K42: 15000
A43: Sotning | F43: 800 | J43: 1000
...

Sheet Ängen-fotbollsplan
A1: Ängen
A2: HJ/2025
C3: 2022 | D3: 2023 | E3: 2024 | F3: 2025 | G3: 2026 | H3: 2027 | I3: 2028 | J3: 2029 | K3: 2030 | L3: 2031 | M3: 2032 | N3: 2033
A5: Fotbollsmål
A6: Nät | E6: 2000 | K6: 2000
A7: Målning | D7: 500 | J7: 500
A8: Utjämning | I8: 2000
A9: Gräsklippare | G9: 15000
A11: Förvaringsbod
A12: målning Ytterväggar | D12: 500 | L12: 2000
A15: Summa | C15: =SUM(C5:C14) -> 0 | D15: =SUM(D5:D14) -> 1000 | E15: =SUM(E5:E14) -> 2000 | F15: =SUM(F5:F14) -> 0 | G15: =SUM(G5:G14) -> 15000 | H15: =SUM(H5:H14) -> 0 | I15: =SUM(I5:I14) -> 2000 | J15: =SUM(J5:J14) -> 500 | ... N15: =SUM(N5:N14) -> 0

Sheet Vägar
A1: Vägar mm
A2: HJ/2025
C4: 2022 | D4: 2023 | E4: 2024 | F4: 2025 | G4: 2026 | H4: 2027 | I4: 2028 | J4: 2029 | K4: 2030 | L4: 2031 | M4: 2032 | N4: 2033
A6: Brevlådeställ ängen
A7: Brevlådeställ Telefonplan (ren+avgr)
A8: Allmänningar underhåll | C8: 12000 | D8: 3000 | E8: 3000 | F8: 3000 | G8: 3000 | H8: 3000 | I8: 3000 | J8: 3000 | K8: 3000 | L8: 3000 | M8: 3000 | N8: 3000
A9: Trappan Branta backen | C9: 12000 | E9: 20000
A10: Farthinder | E10: 6000
A11: Dundervägen | F11: 15000 | G11: 5000 | H11: 10000 | I11: 10000 | J11: 10000 | K11: 10000 | L11: 10000 | M11: 10000 | N11: 10000
A12: Svartkrutsvägen | F12: 5000 | G12: 5000 | H12: 5000 | I12: 5000 | J12: 5000 | K12: 5000 | L12: 5000 | M12: 5000 | N12: 5000
A13: Kanonportsvägen | F13: 5000 | G13: 5000 | H13: 5000 | I13: 5000 | J13: 5000 | K13: 5000 | L13: 5000 | M13: 5000 | N13: 5000
A14: Skeppsgossevägen | F14: 5000 | G14: 5000 | H14: 5000 | I14: 5000 | J14: 5000 | K14: 5000 | L14: 5000 | M14: 5000 | N14: 5000
A15: Utjämning "grillplats" | G15: 15000
A16: Summa | C16: =SUM(C6:C15) -> 24000 | D16: =SUM(D6:D15) -> 3000 | E16: =SUM(E6:E15) -> 29000 | F16: =SUM(F6:F15) -> 33000 | G16: =SUM(G6:G15) -> 38000 | H16: =SUM(H6:H15) -> 28000 | I16: =SUM(I6:I15) -> 28000 | J16: =SUM(J6:J15) -> 28000 | ... N16: =SUM(N6:N15) -> 28000

Sheet Utskrift
A2: Hamnen | B2: 2022 | C2: 2023 | D2: 2024 | E2: 2025 | F2: 2026 | G2: 2027 | H2: 2028 | I2: 2029 | J2: 2030 | K2: 2031 | L2: 2032 | M2: 2033
A4: Pontonen Västra
A5: Landgång
A6: Nya kättingar/sten | B6: 20000 | C6: 61000
A7: Ytskikt | B7: 500 | D7: 500
A8: Bommar, flytkropp | B8: 12500 | C8: 23500 | D8: 12500 | E8: 5000 | F8: 5000 | G8: 5000 | H8: 5000 | I8: 5000 | J8: 5000 | K8: 5000 | L8: 5000 | M8: 5000
A9: Avbärare
A10: Besiktning | B10: 5000 | E10: 5000 | H10: 5000
A11: Fond *1 | B11: 10000 | D11: 10000 | E11: 10000 | F11: 10000 | G11: 10000 | H11: 10000 | I11: 10000 | J11: 10000 | K11: 10000 | L11: 10000 | M11: 10000
A12: Pontonen Östra
A13: Olja
A14: Ytskikt
A15: Bommar | B15: 12500 | C15: 23500 | D15: 12500 | E15: 1200 | G15: 1500 | I15: 1500
A16: Besiktning | B16: 5000 | E16: 5000 | H16: 5000
A17: Fond *1 | B17: 7500 | D17: 7500 | E17: 7500 | F17: 7500 | G17: 7500 | H17: 7500 | I17: 7500 | J17: 7500 | K17: 7500 | L17: 7500 | M17: 7500
A18: Mittbryggan
A19: Olja | B19: 300 | C19: 300 | D19: 300 | E19: 300 | F19: 300 | G19: 300 | H19: 300 | I19: 300 | J19: 300
A20: Renovering
A21: Fond *2 | B21: 4000 | D21: 4000 | E21: 4000 | F21: 4000 | G21: 4000 | H21: 4000 | I21: 4000 | J21: 4000 | K21: 4000 | L21: 4000 | M21: 4000
A23: Östra bryggan
A24: Olja | B24: 300 | C24: 300 | D24: 300 | E24: 300 | F24: 300 | G24: 300 | H24: 300 | I24: 300 | J24: 300 | K24: 300 | L24: 300 | M24: 300
A25: Ytskikt
A26: Beslag kantskydd
A27: Förlängning brygga | D27: 20000
A29: Diverse oförutsett *3 | B29: 5000 | C29: 5000 | D29: 5000 | E29: 5000 | F29: 5000 | G29: 5000 | H29: 5000 | I29: 5000 | J29: 5000 | K29: 5000 | L29: 5000 | M29: 5000
A31: Summa kr | B31: =SUM(B3:B30) -> 82600 | C31: =SUM(C3:C30) -> 113600 | D31: =SUM(D3:D30) -> 72600 | E31: =SUM(E3:E30) -> 43300 | F31: =SUM(F3:F30) -> 32100 | G31: =SUM(G3:G30) -> 33600 | H31: =SUM(H3:H30) -> 42100 | I31: =SUM(I3:I30) -> 33600 | ... M31: =SUM(M3:M30) -> 31800
A32: Varav fond | B32: 21500 | C32: =SUM(C11+C17+C21) -> 0 | D32: =SUM(D11+D17+D21) -> 21500 | E32: =SUM(E11+E17+E21) -> 21500 | F32: =SUM(F11+F17+F21) -> 21500 | G32: =SUM(G11+G17+G21) -> 21500 | H32: =SUM(H11+H17+H21) -> 21500 | I32: =SUM(I11+I17+I21) -> 21500 | J32: 21500 | K32: 21500 | L32: 21500 | M32: 21500 | N32: =SUM(B32:M32) -> 236500
A34: Att klubbas årsstämma 2021
A35: *1/Från 2021 fonderas pengar för ny brygga. Livsländ på bryggor 30-35 år
A36: *2 Livslängd ca 30 år
A37: *3/ Inte alla år som brygga sliter sig elleer ändrar läge. Summan flyttas till nästkommande år
A38: OM kostnaden för att te x någon brygga ändrat läge på grund av is inte behöver utnyttjas flyttas budgeten över till nästkommande år
A47: HJ/2024
A48: Stranden | C48: 2022 | D48: 2023 | E48: 2024 | F48: 2025 | G48: 2026 | H48: 2027 | I48: 2028 | J48: 2029 | K48: 2030 | L48: 2031 | M48: 2032 | N48: 2033
A50: Badsand | E50: 10000 | H50: 10000 | K50: 10000 | N50: 10000
A51: Avrinning
A52: Lekställning
A53: Armaturer | C53: 2000 | H53: 2000
A54: Bord/stolar | C54: 10000 | D54: 5000 | E54: 3000 | G54: 10000 | L54: 10000
A55: Vägbom
...
